BEGIN:VCALENDAR
VERSION:2.0
PRODID:-//Tukios.com/
BEGIN:VEVENT
UID:58b50892-1375-4dd6-9113-f390358ab808@www.shannonfuneralhomes.com
DTSTAMP:20260423T203745Z
DTSTART:20260509T153000Z
DTEND:20260509T163000Z
SUMMARY:Mass
DESCRIPTION:
URL:https://www.shannonfuneralhomes.com/obituaries/dorothy-wilhelm
LOCATION:Saints John & Paul, Saint Luke the Evangelist Parish 2586 
	Wexford Bayne Road  Sewickley PA 15143
GEO:40.6083761;-80.1066005
END:VEVENT
END:VCALENDAR