BEGIN:VCALENDAR
VERSION:2.0
PRODID:-//Tukios.com/
BEGIN:VEVENT
UID:b59de926-fc45-4b27-abdb-b3b9f8d0c3c5@www.shannonfuneralhomes.com
DTSTAMP:20260423T234346Z
DTSTART:20260430T143000Z
DTEND:20260430T153000Z
SUMMARY:Mass
DESCRIPTION:
URL:https://www.shannonfuneralhomes.com/obituaries/mary-baber
LOCATION:St. Joseph Catholic Church 3100 26th Street West  Bradenton FL 
	34205
GEO:27.4733071;-82.5882783
END:VEVENT
END:VCALENDAR